BEGIN:VCALENDAR
VERSION:2.0
PRODID:-//Zangstudio Cobien Nieuwpoort - ECPv6.3.4//NONSGML v1.0//EN
CALSCALE:GREGORIAN
METHOD:PUBLISH
X-WR-CALNAME:Zangstudio Cobien Nieuwpoort
X-ORIGINAL-URL:https://www.cobiennieuwpoort.nl
X-WR-CALDESC:Evenementen voor Zangstudio Cobien Nieuwpoort
REFRESH-INTERVAL;VALUE=DURATION:PT1H
X-Robots-Tag:noindex
X-PUBLISHED-TTL:PT1H
BEGIN:VTIMEZONE
TZID:Europe/Amsterdam
BEGIN:DAYLIGHT
TZOFFSETFROM:+0100
TZOFFSETTO:+0200
TZNAME:CEST
DTSTART:20180325T010000
END:DAYLIGHT
BEGIN:STANDARD
TZOFFSETFROM:+0200
TZOFFSETTO:+0100
TZNAME:CET
DTSTART:20181028T010000
END:STANDARD
BEGIN:DAYLIGHT
TZOFFSETFROM:+0100
TZOFFSETTO:+0200
TZNAME:CEST
DTSTART:20190331T010000
END:DAYLIGHT
BEGIN:STANDARD
TZOFFSETFROM:+0200
TZOFFSETTO:+0100
TZNAME:CET
DTSTART:20191027T010000
END:STANDARD
END:VTIMEZONE
BEGIN:VEVENT
DTSTART;TZID=Europe/Amsterdam:20190422T193000
DTEND;TZID=Europe/Amsterdam:20190422T210000
DTSTAMP:20260424T121517
CREATED:20190219T200431Z
LAST-MODIFIED:20190220T063627Z
UID:929-1555961400-1555966800@www.cobiennieuwpoort.nl
SUMMARY:Improvisatie lessen in groepsverband: ‘Speel jezelf’
DESCRIPTION:Wil je wel eens wat anders dan alleen de muziek van een ander uitvoeren? Ontdekken dat je zelf muzikale ideeën hebt? Je eigen creativiteit stimuleren? Je vrij voelen tijdens het muziek maken?\nDat zingen en muziek maken goed voor ons is weten we\, maar wist je ook dat leren improviseren het plezier en zelfvertrouwen in het zingen en muziek maken versterkt? Of je nu voor jezelf zingt en/of speelt of in een koor\, band\, een instrument bespeelt\, jong of oud\, net begint of gevorderd bent\, improviseren is voor iedereen. Kom meedoen aan de workshops. Je zult merken hoe leuk het is om samen te improviseren en dat iedereen belangrijk is in dat proces. \nWat gebeurt er tijdens de workshops?\nMet eenvoudige en speelse oefeningen warmen we op om daarna tot improvisatie te komen. We werken in een ontspannen sfeer en tussendoor is er telkens even ruimte om met elkaar van gedachten te wisselen over hoe we het ervaren. Er zijn diverse instrumenten aanwezig maar ook met je eigen stem ben je van harte welkom. \nWe besteden bijvoorbeeld aandacht aan: \n\nHoe kom ik op de goede improvisatie golflengte.\nJe vrij voelen bij anderen\, ruimte nemen en geven\, muzikaal gesprek en versprekingen.\nSamenspel\, luisteren naar anderen\, aanhaken of iets nieuws inbrengen\, stiltes.\nPulse en ritme\, motiefjes\, variaties\, contrast\, vorm\, akkoorden schema’s.\n\nDe workshops zijn op maandag van 19.30-21.00\, data: 22/4\, 6/5\, 20/5\, 3/6\, 17/6. \nLocatie: Zangstudio Cobien Nieuwpoort\, Taco Mesdagstraat 17\, 9718KJ Groningen (Schildersbuurt). \nKosten: 15 euro per keer. 5 x voor 70 euro. \nMaximale groepsgrootte: 6-8 mensen. \nContact en aanmelden\nVragen? Wil je je opgeven? Vol=Vol \nStuur een mailtje naar: jmnieuwpoort@gmail.com \nStuur een app/sms of bel naar: 0612219136. \nAanmelden via contactformulier\nSchakel JavaScript in je browser in om dit formulier in te vullen.Naam *E-mail *Telefoonnummer *Vraag en/of opmerkingWil je liever zingen of een instrument bespelen? *ZingenInstrumentZingen én instrumentMessageVerzenden
URL:https://www.cobiennieuwpoort.nl/activiteit/improvisatie-lessen-in-groepsverband-speel-jezelf/
LOCATION:Zangstudio Cobien Nieuwpoort\, Taco Mesdagstraat 17\, Groningen\, 9718 KJ\, Nederland
CATEGORIES:Cobien Nieuwpoort
ORGANIZER;CN="Zangstudio Cobien Nieuwpoort":MAILTO:jmnieuwpoort@gmail.com
END:VEVENT
BEGIN:VEVENT
DTSTART;VALUE=DATE:20190421
DTEND;VALUE=DATE:20190422
DTSTAMP:20260424T121517
CREATED:20180907T135539Z
LAST-MODIFIED:20180907T135539Z
UID:861-1555804800-1555891199@www.cobiennieuwpoort.nl
SUMMARY:Paasochtenddienst Immanuelkerk
DESCRIPTION:
URL:https://www.cobiennieuwpoort.nl/activiteit/paasochtenddienst-immanuelkerk/
LOCATION:Immanuelkerk Groningen\, Overwinningsplein 1\, Groningen\, Groningen\, 9728 GP
CATEGORIES:Cobien Nieuwpoort
ORGANIZER;CN="Zangstudio Cobien Nieuwpoort":MAILTO:jmnieuwpoort@gmail.com
END:VEVENT
BEGIN:VEVENT
DTSTART;VALUE=DATE:20190407
DTEND;VALUE=DATE:20190408
DTSTAMP:20260424T121517
CREATED:20180907T135445Z
LAST-MODIFIED:20180907T135445Z
UID:857-1554595200-1554681599@www.cobiennieuwpoort.nl
SUMMARY:Gezamenlijke dienst Immanuelkerk
DESCRIPTION:
URL:https://www.cobiennieuwpoort.nl/activiteit/gezamenlijke-dienst-immanuelkerk-2/
LOCATION:Immanuelkerk Groningen\, Overwinningsplein 1\, Groningen\, Groningen\, 9728 GP
CATEGORIES:Cobien Nieuwpoort
ORGANIZER;CN="Zangstudio Cobien Nieuwpoort":MAILTO:jmnieuwpoort@gmail.com
END:VEVENT
BEGIN:VEVENT
DTSTART;VALUE=DATE:20190210
DTEND;VALUE=DATE:20190211
DTSTAMP:20260424T121517
CREATED:20180907T135159Z
LAST-MODIFIED:20180907T135221Z
UID:853-1549756800-1549843199@www.cobiennieuwpoort.nl
SUMMARY:Vieringen op Weg\, thema “Israel”
DESCRIPTION:
URL:https://www.cobiennieuwpoort.nl/activiteit/vieringen-op-weg-thema-israel-10-2/
LOCATION:Immanuelkerk Groningen\, Overwinningsplein 1\, Groningen\, Groningen\, 9728 GP
CATEGORIES:Cobien Nieuwpoort,Vieringen Op Weg
ORGANIZER;CN="Zangstudio Cobien Nieuwpoort":MAILTO:jmnieuwpoort@gmail.com
END:VEVENT
BEGIN:VEVENT
DTSTART;VALUE=DATE:20190203
DTEND;VALUE=DATE:20190204
DTSTAMP:20260424T121517
CREATED:20180907T135052Z
LAST-MODIFIED:20180907T135052Z
UID:849-1549152000-1549238399@www.cobiennieuwpoort.nl
SUMMARY:Vieringen op Weg\, thema “Israel”
DESCRIPTION:
URL:https://www.cobiennieuwpoort.nl/activiteit/vieringen-op-weg-thema-israel/
LOCATION:Immanuelkerk Groningen\, Overwinningsplein 1\, Groningen\, Groningen\, 9728 GP
CATEGORIES:Cobien Nieuwpoort,Vieringen Op Weg
ORGANIZER;CN="Zangstudio Cobien Nieuwpoort":MAILTO:jmnieuwpoort@gmail.com
END:VEVENT
BEGIN:VEVENT
DTSTART;VALUE=DATE:20190113
DTEND;VALUE=DATE:20190114
DTSTAMP:20260424T121517
CREATED:20180907T134941Z
LAST-MODIFIED:20180907T134941Z
UID:845-1547337600-1547423999@www.cobiennieuwpoort.nl
SUMMARY:Gezamenlijke dienst Immanuelkerk
DESCRIPTION:
URL:https://www.cobiennieuwpoort.nl/activiteit/gezamenlijke-dienst-immanuelkerk/
LOCATION:Immanuelkerk Groningen\, Overwinningsplein 1\, Groningen\, Groningen\, 9728 GP
CATEGORIES:Cobien Nieuwpoort
ORGANIZER;CN="Zangstudio Cobien Nieuwpoort":MAILTO:jmnieuwpoort@gmail.com
END:VEVENT
BEGIN:VEVENT
DTSTART;VALUE=DATE:20190106
DTEND;VALUE=DATE:20190107
DTSTAMP:20260424T121517
CREATED:20180907T134844Z
LAST-MODIFIED:20180907T134844Z
UID:841-1546732800-1546819199@www.cobiennieuwpoort.nl
SUMMARY:Gezamenlijke dienst De Ark en Immanuelkerk
DESCRIPTION:
URL:https://www.cobiennieuwpoort.nl/activiteit/gezamenlijke-dienst-de-ark-en-immanuelkerk/
LOCATION:Immanuelkerk Groningen\, Overwinningsplein 1\, Groningen\, Groningen\, 9728 GP
CATEGORIES:Cobien Nieuwpoort
ORGANIZER;CN="Zangstudio Cobien Nieuwpoort":MAILTO:jmnieuwpoort@gmail.com
END:VEVENT
BEGIN:VEVENT
DTSTART;TZID=Europe/Amsterdam:20181224T220000
DTEND;TZID=Europe/Amsterdam:20181224T230000
DTSTAMP:20260424T121517
CREATED:20180907T134654Z
LAST-MODIFIED:20180907T134654Z
UID:837-1545688800-1545692400@www.cobiennieuwpoort.nl
SUMMARY:Gezamenlijke Cantorijen Kerstnachtviering
DESCRIPTION:
URL:https://www.cobiennieuwpoort.nl/activiteit/gezamenlijke-cantorijen-kerstnachtviering/
LOCATION:Immanuelkerk Groningen\, Overwinningsplein 1\, Groningen\, Groningen\, 9728 GP
CATEGORIES:Cobien Nieuwpoort
END:VEVENT
BEGIN:VEVENT
DTSTART;TZID=Europe/Amsterdam:20181211T100000
DTEND;TZID=Europe/Amsterdam:20181211T150000
DTSTAMP:20260424T121517
CREATED:20180907T134500Z
LAST-MODIFIED:20180907T134500Z
UID:833-1544522400-1544540400@www.cobiennieuwpoort.nl
SUMMARY:Trainingsdag Improvisatiecoach
DESCRIPTION:
URL:https://www.cobiennieuwpoort.nl/activiteit/trainingsdag-improvisatiecoach-2/
LOCATION:Amsterdam\, Amsterdam\, Nederland
CATEGORIES:Cobien Nieuwpoort
ORGANIZER;CN="Zangstudio Cobien Nieuwpoort":MAILTO:jmnieuwpoort@gmail.com
END:VEVENT
BEGIN:VEVENT
DTSTART;VALUE=DATE:20181125
DTEND;VALUE=DATE:20181126
DTSTAMP:20260424T121517
CREATED:20180907T134258Z
LAST-MODIFIED:20180907T134258Z
UID:829-1543104000-1543190399@www.cobiennieuwpoort.nl
SUMMARY:Vieringen Op Weg: thema “Jezelf delen & Martha/Maria”
DESCRIPTION:
URL:https://www.cobiennieuwpoort.nl/activiteit/vieringen-op-weg-thema-jezelf-delen-martha-maria-25-11/
LOCATION:Immanuelkerk Groningen\, Overwinningsplein 1\, Groningen\, Groningen\, 9728 GP
CATEGORIES:Cobien Nieuwpoort,Vieringen Op Weg
ORGANIZER;CN="Zangstudio Cobien Nieuwpoort":MAILTO:jmnieuwpoort@gmail.com
END:VEVENT
BEGIN:VEVENT
DTSTART;VALUE=DATE:20181118
DTEND;VALUE=DATE:20181119
DTSTAMP:20260424T121517
CREATED:20180907T133927Z
LAST-MODIFIED:20180907T133927Z
UID:825-1542499200-1542585599@www.cobiennieuwpoort.nl
SUMMARY:Vieringen Op Weg: thema “Jezelf delen & Martha/Maria”
DESCRIPTION:
URL:https://www.cobiennieuwpoort.nl/activiteit/vieringen-op-weg-thema-jezelf-delen-martha-maria/
LOCATION:Immanuelkerk Groningen\, Overwinningsplein 1\, Groningen\, Groningen\, 9728 GP
CATEGORIES:Cobien Nieuwpoort,Vieringen Op Weg
ORGANIZER;CN="Zangstudio Cobien Nieuwpoort":MAILTO:jmnieuwpoort@gmail.com
END:VEVENT
BEGIN:VEVENT
DTSTART;TZID=Europe/Amsterdam:20181103T110000
DTEND;TZID=Europe/Amsterdam:20181103T150000
DTSTAMP:20260424T121517
CREATED:20180907T133754Z
LAST-MODIFIED:20180907T133754Z
UID:821-1541242800-1541257200@www.cobiennieuwpoort.nl
SUMMARY:Koordag Femmes Majeures
DESCRIPTION:
URL:https://www.cobiennieuwpoort.nl/activiteit/koordag-femmes-majeures/
CATEGORIES:Cobien Nieuwpoort,Femmes Majeures
ORGANIZER;CN="Zangstudio Cobien Nieuwpoort":MAILTO:jmnieuwpoort@gmail.com
END:VEVENT
BEGIN:VEVENT
DTSTART;VALUE=DATE:20181028
DTEND;VALUE=DATE:20181029
DTSTAMP:20260424T121517
CREATED:20180907T133621Z
LAST-MODIFIED:20180907T133621Z
UID:815-1540684800-1540771199@www.cobiennieuwpoort.nl
SUMMARY:Leerlingenmiddag Cobien Nieuwpoort en Emma Poppink
DESCRIPTION:
URL:https://www.cobiennieuwpoort.nl/activiteit/leerlingenmiddag-cobien-nieuwpoort-en-emma-poppink/
LOCATION:Zangstudio Cobien Nieuwpoort\, Taco Mesdagstraat 17\, Groningen\, 9718 KJ\, Nederland
CATEGORIES:Cobien Nieuwpoort
ORGANIZER;CN="Zangstudio Cobien Nieuwpoort":MAILTO:jmnieuwpoort@gmail.com
END:VEVENT
BEGIN:VEVENT
DTSTART;VALUE=DATE:20181007
DTEND;VALUE=DATE:20181008
DTSTAMP:20260424T121517
CREATED:20180907T093910Z
LAST-MODIFIED:20180907T093910Z
UID:801-1538870400-1538956799@www.cobiennieuwpoort.nl
SUMMARY:Vieringen Op Weg: 'Menselijk tekort en genade'
DESCRIPTION:
URL:https://www.cobiennieuwpoort.nl/activiteit/vieringen-op-weg-menselijk-tekort-en-genade/
LOCATION:Immanuelkerk Groningen\, Overwinningsplein 1\, Groningen\, Groningen\, 9728 GP
CATEGORIES:Cobien Nieuwpoort,Vieringen Op Weg
ORGANIZER;CN="Zangstudio Cobien Nieuwpoort":MAILTO:jmnieuwpoort@gmail.com
END:VEVENT
BEGIN:VEVENT
DTSTART;VALUE=DATE:20180929
DTEND;VALUE=DATE:20180930
DTSTAMP:20260424T121517
CREATED:20180907T093242Z
LAST-MODIFIED:20180907T093242Z
UID:793-1538179200-1538265599@www.cobiennieuwpoort.nl
SUMMARY:Optreden Flexwerk: KVO Jubileumfeest KK Zuidhorn
DESCRIPTION:
URL:https://www.cobiennieuwpoort.nl/activiteit/optreden-flexwerk-kvo-jubileumfeest-kk-zuidhorn/
LOCATION:Zuidhorn
CATEGORIES:Cobien Nieuwpoort,Flexwerk
END:VEVENT
BEGIN:VEVENT
DTSTART;TZID=Europe/Amsterdam:20180918T100000
DTEND;TZID=Europe/Amsterdam:20180918T150000
DTSTAMP:20260424T121517
CREATED:20180907T092248Z
LAST-MODIFIED:20180907T092248Z
UID:775-1537264800-1537282800@www.cobiennieuwpoort.nl
SUMMARY:Trainingsdag Improvisatiecoach
DESCRIPTION:
URL:https://www.cobiennieuwpoort.nl/activiteit/trainingsdag-improvisatiecoach/
LOCATION:Amsterdam\, Amsterdam\, Nederland
CATEGORIES:Cobien Nieuwpoort
ORGANIZER;CN="Zangstudio Cobien Nieuwpoort":MAILTO:jmnieuwpoort@gmail.com
END:VEVENT
END:VCALENDAR